BEGIN:VCALENDAR
VERSION:2.0
PRODID:-//wp-events-plugin.com//7.2.3.1//EN
TZID:America/New_York
X-WR-TIMEZONE:America/New_York
BEGIN:VEVENT
UID:422@breatheatlanta.us
DTSTART;TZID=America/New_York:20240923T183000
DTEND;TZID=America/New_York:20240923T193000
DTSTAMP:20240903T095918Z
URL:https://breatheatlanta.us/events/yoga-presented-by-kaiser-permanente-2
 024-2/
SUMMARY:Yoga presented by Kaiser Permanente 2024
DESCRIPTION:Join The Battery Atlanta for a refreshing experience as part of
  their Wellness Series with Yoga presented by Kaiser Permanente. This free
  weekly yoga class is the perfect way to unwind and recharge\, held every 
 Monday evening at 6:30 pm on The Plaza Green.\n\nTo ensure a smooth experi
 ence\, pre-registration is required. Secure your spot by registering on Ev
 entbrite\, where you will also need to accept the event participant waiver
 . Remember to bring your registration confirmation as your ticket will be 
 scanned upon arrival. While green space is available on a first-come\, fir
 st-served basis\, drop-ins will be welcomed if space allows and registrati
 on is completed.\n\nMake sure to bring along your yoga mat and water to st
 ay hydrated throughout the session. Classes will be held in person\, weath
 er permitting\, on non-gamedays\, so keep an eye on the forecast.\n\nWheth
 er you're a seasoned yogi or just starting out\, this is an opportunity to
  connect with others in the community while focusing on your well-being. W
 e can't wait to see you there for an evening of relaxation and rejuvenatio
 n under the sky.\n\nGET TICKETS\n
ATTACH;FMTTYPE=image/jpeg:https://breatheatlanta.us/wp-content/uploads/202
 4/09/Yoga-presented-by-Kaiser-Permanente-2024.jpg
CATEGORIES:Things To Do
LOCATION:The Plaza at The Battery Atlanta\, 775 Battery Ave SE \, Atlanta\,
  Georgia\, 30339 \, United States
X-APPLE-STRUCTURED-LOCATION;VALUE=URI;X-ADDRESS=775 Battery Ave SE \, Atlan
 ta\, Georgia\, 30339 \, United States;X-APPLE-RADIUS=100;X-TITLE=The Plaza
  at The Battery Atlanta:geo:0,0
END:VEVENT
BEGIN:VTIMEZONE
TZID:America/New_York
X-LIC-LOCATION:America/New_York
BEGIN:DAYLIGHT
DTSTART:20240310T030000
TZOFFSETFROM:-0500
TZOFFSETTO:-0400
TZNAME:EDT
END:DAYLIGHT
END:VTIMEZONE
END:VCALENDAR