BEGIN:VCALENDAR
VERSION:2.0
PRODID:-//wp-events-plugin.com//7.2.3.1//EN
TZID:America/New_York
X-WR-TIMEZONE:America/New_York
BEGIN:VEVENT
UID:107@breatheatlanta.us
DTSTART;TZID=America/New_York:20240401T183000
DTEND;TZID=America/New_York:20240401T193000
DTSTAMP:20240323T063834Z
URL:https://breatheatlanta.us/events/yoga-presented-by-kaiser-permanente-2
 024/
SUMMARY:Yoga presented by Kaiser Permanente 2024
DESCRIPTION:Experience holistic wellness with us as The Battery Atlanta pro
 udly presents Yoga\, brought to you by Kaiser Permanente\, as part of our 
 esteemed Wellness Series.\n\nEvent Information:\n\nEvent Name: Yoga presen
 ted by Kaiser Permanente 2024\n\nHost: The Battery Atlanta\n\nDate and Tim
 e: Monday\, April 1\, 6:30 - 7:30 PM EDT\n\nLocation: The Plaza at The Bat
 tery Atlanta\, 775 Battery Ave SE Atlanta\, GA 30339\, United States\n\nTi
 cket Information:\n\nGeneral Admission: Free\n\nDelivery: eTicket\, no add
 itional charge\n\n&nbsp\;\n\n&nbsp\;\n\nGET TICKETS\n\nAbout this Event:\n
 \nThe Battery Atlanta for a rejuvenating Yoga session presented by Kaiser 
 Permanente as part of our Wellness Series. This FREE Yoga class takes plac
 e every Monday at 6:30 PM on The Plaza Green.\n\nEnsure your spot by pre-r
 egistering on Eventbrite and accepting the participant waiver. Drop-ins ar
 e welcome if space allows\, and registration is completed. Don't forget to
  bring your yoga mat and water bottle for a refreshing practice!\n\nPlease
  follow us on Instagram @batteryatl for event updates.\n\nWorkout Session 
 Detail:\n\nDuration: 1 hour\n\nFree Yoga class presented by Kaiser Permane
 nte\n\nPart of The Battery Atlanta's Wellness Series\n\nHeld Monday evenin
 gs at 6:30 PM on The Plaza Green\n\nPre-registration is required on Eventb
 rite\, including acceptance of participant waiver\n\nDrop-ins are allowed 
 based on space availability and completed registration\n\nBring water and 
 a yoga mat\n\nIn-person class held weather permitting on non-gamedays\n\nE
 ssential for Bringing:\n\nYoga mat for comfortable practice\n\nWater to st
 ay hydrated during the session\n\nPositive energy and enthusiasm for the c
 lass\n\nParking Option:\n\nFree parking is available in Red\, Purple\, or 
 Green decks during the event\n\nDetailed parking information is provided o
 n batteryatl.com\n\n&nbsp\;
ATTACH;FMTTYPE=image/jpeg:https://breatheatlanta.us/wp-content/uploads/202
 4/03/8888888888.jpg
CATEGORIES:Wellness Events,Yoga Events
LOCATION:The Plaza at The Battery Atlanta\,   775 Battery Ave SE Atlanta\, 
 GA 30339 United States\, GA \, United States\, 30339 \, GA\, United States
X-APPLE-STRUCTURED-LOCATION;VALUE=URI;X-ADDRESS=  775 Battery Ave SE Atlant
 a\, GA 30339 United States\, GA \, United States\, 30339 \, GA\, United St
 ates;X-APPLE-RADIUS=100;X-TITLE=The Plaza at The Battery Atlanta:geo:0,0
END:VEVENT
BEGIN:VTIMEZONE
TZID:America/New_York
X-LIC-LOCATION:America/New_York
BEGIN:DAYLIGHT
DTSTART:20240310T030000
TZOFFSETFROM:-0500
TZOFFSETTO:-0400
TZNAME:EDT
END:DAYLIGHT
END:VTIMEZONE
END:VCALENDAR