BEGIN:VCALENDAR
VERSION:2.0
PRODID:-//wp-events-plugin.com//7.2.3.1//EN
TZID:America/New_York
X-WR-TIMEZONE:America/New_York
BEGIN:VEVENT
UID:195@breatheatlanta.us
DTSTART;TZID=America/New_York:20240504T153300
DTEND;TZID=America/New_York:20240504T164400
DTSTAMP:20240404T114018Z
URL:https://breatheatlanta.us/events/yoga-sound-healing/
SUMMARY:Yoga + Sound Healing
DESCRIPTION:Immerse yourself in the tranquil ambiance of Winn Park in Atlan
 ta\, Georgia\, where yoga and sound healing sessions offer a blissful oppo
 rtunity to unwind and rejuvenate.\n\nEvent Information:\n\nEvent Name: Yog
 a + Sound Healing\n\nHost: TaughtbyTaylor\n\nDate and Time: Saturday\, May
  4 • 3:33 PM - 4:44 PM EDT\n\nLocation: Winn Park\, 32 Lafayette Drive N
 ortheast\, Atlanta\, GA 30309\, United States\n\nAbout this Event: Indulge
  in a unique experience of Yoga + Sound Healing amidst the tranquil ambian
 ce of Winn Park in Atlanta\, Georgia. Led by a certified yoga instructor\,
  this session combines the benefits of yoga with the therapeutic effects o
 f sound healing to offer a holistic approach to relaxation and rejuvenatio
 n. Participants can expect guided meditation\, gentle yoga poses\, and imm
 ersive soundscapes aimed at promoting physical\, mental\, and emotional we
 ll-being.\n\nTicket Price: Donation (Sales end on May 31\, 2024 - Fees and
  taxes will be calculated before you place your order)\n\nTicket Informati
 on:\n\nDonation: $0.00 (Sales end on May 31\, 2024)\n\nGET TICKETS\n\nWork
 out Session Detail:\n\nDuration: 1 hour 11 minutes\n\nEssential for Bringi
 ng:\n\nComfortable clothing\n\nYoga mat or towel\n\nOpen mind and willingn
 ess to experience sound healing\n\nParking Option:\n\nDetails not provided
 \n\nUnwind and rejuvenate your body\, mind\, and soul with Yoga + Sound He
 aling at Winn Park. Experience the synergy of yoga and sound therapy for a
  trans formative journey towards holistic well-being.
ATTACH;FMTTYPE=image/jpeg:https://breatheatlanta.us/wp-content/uploads/202
 4/03/KAKAKAKAKAKA.jpg
CATEGORIES:Wellness Events,Yoga Events
LOCATION:Winn Park\,   32 Lafayette Drive  \, Northeast Atlanta\,  \, Unite
 d States\, 30309\, GA\, United States
X-APPLE-STRUCTURED-LOCATION;VALUE=URI;X-ADDRESS=  32 Lafayette Drive  \, No
 rtheast Atlanta\,  \, United States\, 30309\, GA\, United States;X-APPLE-R
 ADIUS=100;X-TITLE=Winn Park:geo:0,0
END:VEVENT
BEGIN:VTIMEZONE
TZID:America/New_York
X-LIC-LOCATION:America/New_York
BEGIN:DAYLIGHT
DTSTART:20240310T030000
TZOFFSETFROM:-0500
TZOFFSETTO:-0400
TZNAME:EDT
END:DAYLIGHT
END:VTIMEZONE
END:VCALENDAR