BEGIN:VCALENDAR
VERSION:2.0
PRODID:-//wp-events-plugin.com//7.2.3.1//EN
TZID:America/New_York
X-WR-TIMEZONE:America/New_York
BEGIN:VEVENT
UID:552@breatheatlanta.us
DTSTART;TZID=America/New_York:20241016T090000
DTEND;TZID=America/New_York:20241016T100000
DTSTAMP:20241001T141409Z
URL:https://breatheatlanta.us/events/yoga-with-me/
SUMMARY:Yoga with me
DESCRIPTION:Start your day with a transformative 60-minute yoga session des
 igned to holistically align your mind\, body\, and soul. This dynamic prac
 tice offers a multifaceted approach\, guiding participants through a journ
 ey of physical movement\, mental stillness\, and spiritual awakening. By e
 ngaging in this experience\, you will learn to quiet distractions\, dissol
 ve the ego\, and create a sacred space for divine inspiration and inner pe
 ace.\n\nThis session focuses on achieving Vibrational Enhancement through 
 various elements:\n\n 	Movement and Stillness: Flow through poses that str
 engthen the body and calm the mind\, while embracing the beauty of stillne
 ss.\n 	Meditation: Cultivate mindfulness and inner tranquility by connecti
 ng deeply with your breath and thoughts.\n 	Breathwork: Harness the power 
 of controlled breathing techniques to center your energy and promote overa
 ll well-being.\n 	Self-Massage: Engage in gentle self-massage techniques t
 o release tension and enhance relaxation.\n 	Energetic Hygiene: Cleanse yo
 ur energy field\, allowing for a more balanced and vibrant presence.\n\nTh
 is practice is open to all\, whether you're a seasoned yogi or a complete 
 beginner. No prior experience is necessary\, and yoga props will be provid
 ed to support your practice.\n\nJoin this empowering session to elevate yo
 ur vibration\, reconnect with your true self\, and embark on a path of sel
 f-discovery and renewal.\n\nGET TICKETS\n
ATTACH;FMTTYPE=image/jpeg:https://breatheatlanta.us/wp-content/uploads/202
 4/10/Yoga-with-me.jpeg
CATEGORIES:Yoga Events
LOCATION:Astral Bodyworks\, 945 Allene Avenue Southwest\, Suite 7 Atlanta\,
  United States\, 30310\, GA\, United States
X-APPLE-STRUCTURED-LOCATION;VALUE=URI;X-ADDRESS=945 Allene Avenue Southwest
 \, Suite 7 Atlanta\, United States\, 30310\, GA\, United States;X-APPLE-RA
 DIUS=100;X-TITLE=Astral Bodyworks:geo:0,0
END:VEVENT
BEGIN:VTIMEZONE
TZID:America/New_York
X-LIC-LOCATION:America/New_York
BEGIN:DAYLIGHT
DTSTART:20240310T030000
TZOFFSETFROM:-0500
TZOFFSETTO:-0400
TZNAME:EDT
END:DAYLIGHT
END:VTIMEZONE
END:VCALENDAR