BEGIN:VCALENDAR
VERSION:2.0
PRODID:-//wp-events-plugin.com//7.2.3.1//EN
TZID:America/New_York
X-WR-TIMEZONE:America/New_York
BEGIN:VEVENT
UID:252@breatheatlanta.us
DTSTART;TZID=America/New_York:20240504T090000
DTEND;TZID=America/New_York:20240504T100000
DTSTAMP:20240417T154608Z
URL:https://breatheatlanta.us/events/yoga-with-melissa-2/
SUMMARY:Yoga with Melissa!
DESCRIPTION:\nFind Your Center: Gentle Yoga for Beginners with Melissa!\nCa
 lling all yoga newbies and those seeking a gentle practice! Join Melissa f
 or a welcoming and beginner-friendly yoga class designed to introduce you 
 to the fundamentals and cultivate relaxation.\nEmbrace a Slower Pace:\nThi
 s class prioritizes slow and mindful movements\, allowing you to explore b
 asic yoga poses with ease. Focus on proper alignment\, connect with your b
 reath\, and experience the calming benefits of yoga.\nUnwind &amp\; Rejuve
 nate:\nMelissa's gentle guidance will lead you through a series of stretch
 es and simple breathing exercises designed to promote relaxation and stres
 s relief. Leave feeling refreshed and centered after each session.\nA Perf
 ect Introduction:\nYoga with Melissa is the ideal space for beginners to l
 earn the basics in a supportive and comfortable environment. Whether you'r
 e new to yoga or seeking a gentler practice\, this class is perfect for yo
 u!\nBenefits for Everyone:\n\n\n 	Improved Flexibility: Increase your rang
 e of motion through gentle stretching exercises.\n 	Enhanced Relaxation: L
 earn techniques to manage stress and cultivate inner peace.\n 	Greater Bod
 y Awareness: Develop a deeper connection to your body and its movements.\n
  	Stronger Foundations: Build a solid foundation for a sustainable yoga pr
 actice.\n\nEmbrace the Journey:\nJoin Melissa for Yoga with Beginners and 
 embark on a rewarding journey of relaxation\, self-discovery\, and a deepe
 r appreciation for your body.\nMore Than Just Poses:\nYoga with Melissa go
 es beyond physical postures. This class offers a holistic approach\, promo
 ting mindfulness\, stress reduction\, and overall well-being.\nReserve You
 r Spot Today!\nDon't miss this opportunity to discover the joys of yoga in
  a gentle and welcoming environment. Reserve your spot today for Yoga with
  Beginners with Melissa!\n\n\n\nBUY TICKETS\n
ATTACH;FMTTYPE=image/jpeg:https://breatheatlanta.us/wp-content/uploads/202
 4/04/https___cdn.evbuc_.com_images_708749989_756517409193_1_original.jpeg
CATEGORIES:Wellness Events
LOCATION:Energy Works ATL\, 1215 Hightower Trail Building D\, Suite 101 Atl
 anta\, GA 30350\, Atlanta\, GA\, 30350\, GA\, United States
X-APPLE-STRUCTURED-LOCATION;VALUE=URI;X-ADDRESS=1215 Hightower Trail Buildi
 ng D\, Suite 101 Atlanta\, GA 30350\, Atlanta\, GA\, 30350\, GA\, United S
 tates;X-APPLE-RADIUS=100;X-TITLE=Energy Works ATL:geo:0,0
END:VEVENT
BEGIN:VTIMEZONE
TZID:America/New_York
X-LIC-LOCATION:America/New_York
BEGIN:DAYLIGHT
DTSTART:20240310T030000
TZOFFSETFROM:-0500
TZOFFSETTO:-0400
TZNAME:EDT
END:DAYLIGHT
END:VTIMEZONE
END:VCALENDAR