BEGIN:VCALENDAR
VERSION:2.0
PRODID:-//wp-events-plugin.com//7.2.3.1//EN
TZID:America/New_York
X-WR-TIMEZONE:America/New_York
BEGIN:VEVENT
UID:175@breatheatlanta.us
DTSTART;TZID=America/New_York:20240425T100000
DTEND;TZID=America/New_York:20240425T110000
DTSTAMP:20240328T100925Z
URL:https://breatheatlanta.us/events/yoga-with-props/
SUMMARY:Yoga with Props
DESCRIPTION:\n\n\n\n\n\n\n\n\n\n\n\n\nA yoga session with props offers a dy
 namic fusion\, blending traditional yoga practices seamlessly with the uti
 lization of props.\n\nEvent Information:\n\nEvent: Yoga with Props\n\nHost
 :  Aum Studio for Wellness\n\nDate and Time: Thursday\, April 25\, 10:00 
 - 11:00 AM EDT.\n\nLocation: Aum Studio for Wellness\, 11550 Webb Bridge W
 ay #Suite B2\, Alpharetta\, GA 30005\, United States\n\nTicket Information
 :\n\nTicket Price: Free\n\nGET TICKETS\n\n\n\nAbout this Event: A dynamic 
 yoga experience that incorporates the use of props to enhance traditional 
 yoga practices. Led by Aum Studio for Wellness\, this class offers a uniqu
 e blend of yoga postures with the support of blocks\, straps\, blankets\, 
 and bolsters.\n\nWorkout Session Detail: In this one-hour session\, partic
 ipants will explore various yoga poses with the assistance of props\, aimi
 ng to achieve deeper stretches\, improve alignment\, and elevate their ove
 rall practice. Whether you're a seasoned yogi or new to the practice\, thi
 s class is designed to cater to all levels of experience.\n\nEssentials to
  Bring: Attendees are encouraged to bring their yoga mat and any personal 
 props they prefer\, although props will be provided by the studio. Comfort
 able workout attire and a water bottle are also recommended.\n\nParking Op
 tion: Specific parking information for Aum Studio for Wellness is not prov
 ided. Please check local parking availability near the studio location.\n\
 nNote: The first class is offered for free\, providing an opportunity for 
 newcomers to experience the benefits of yoga with props.\n\n\n\n\n\n\n\n\n
 \n\n\n\n\n
ATTACH;FMTTYPE=image/jpeg:https://breatheatlanta.us/wp-content/uploads/202
 4/03/https___cdn.evbuc_.com_images_513215499_1550749607733_1_original.jpeg
CATEGORIES:Wellness Events,Yoga Events
LOCATION:Aum Studio for Wellness\, 11550 Webb Bridge Way #Suite B2 Alpharet
 ta\, GA 30005 United States\,  GA \,  United States\, 30005\, GA\, United 
 States
X-APPLE-STRUCTURED-LOCATION;VALUE=URI;X-ADDRESS=11550 Webb Bridge Way #Suit
 e B2 Alpharetta\, GA 30005 United States\,  GA \,  United States\, 30005\,
  GA\, United States;X-APPLE-RADIUS=100;X-TITLE=Aum Studio for Wellness:geo
 :0,0
END:VEVENT
BEGIN:VTIMEZONE
TZID:America/New_York
X-LIC-LOCATION:America/New_York
BEGIN:DAYLIGHT
DTSTART:20240310T030000
TZOFFSETFROM:-0500
TZOFFSETTO:-0400
TZNAME:EDT
END:DAYLIGHT
END:VTIMEZONE
END:VCALENDAR