BEGIN:VCALENDAR
VERSION:2.0
PRODID:-//wp-events-plugin.com//7.2.3.1//EN
TZID:America/New_York
X-WR-TIMEZONE:America/New_York
BEGIN:VEVENT
UID:143@breatheatlanta.us
DTSTART;TZID=America/New_York:20240413T110000
DTEND;TZID=America/New_York:20240413T140000
DTSTAMP:20240325T121331Z
URL:https://breatheatlanta.us/events/youth-mental-health-and-wellness-expo
 -at-atlanta/
SUMMARY:Youth Mental Health and Wellness Expo
DESCRIPTION:\n\n\n\nEvent Information:\n\n\nDiscover a wealth of resources 
 and strategies for youth mental well-being at the Youth Mental Health and 
 Wellness Expo. Engage in workshops\, activities\, and support services to 
 prioritize your mental health journey!\n\n 	Date and Time: Saturday\, Apri
 l 13 · 11am - 2pm EDT\n 	Location: Johnson Park\, 1781 Ebenezer Road Sout
 hwest Conyers\, GA 30094 United States\n\nAbout this Event:\n\nThe Youth M
 ental Health and Wellness Expo at Johnson Park offers a day of resources\,
  workshops\, and activities to promote mental well-being among young peopl
 e. Explore self-care techniques\, connect with local support services\, an
 d prioritize your mental health in a supportive environment.\n\nTicket Inf
 ormation:\n\n 	Free admission\n\n&nbsp\;\n\nGET TICKETS\n\nWorkout Session
  Detail:\n\nThe expo includes workshops\, activities\, and resources focus
 ed on mental well-being for youth.\n\nEssential for Bring:\n\n 	Open mind 
 to learn about mental wellness\n 	Willingness to engage in workshops and a
 ctivities\n 	Comfortable attire for the event\n\nParking Option:\n\nAvaila
 ble at the Johnson Park location.\n\nThe expo promises a valuable experien
 ce for attendees interested in enhancing their mental well-being and acces
 sing resources for support and self-care.\n\n\n\n\n\n\n\n
ATTACH;FMTTYPE=image/jpeg:https://breatheatlanta.us/wp-content/uploads/202
 4/03/Mental-Health-and-Wellness.jpg
CATEGORIES:Wellness Events
END:VEVENT
BEGIN:VTIMEZONE
TZID:America/New_York
X-LIC-LOCATION:America/New_York
BEGIN:DAYLIGHT
DTSTART:20240310T030000
TZOFFSETFROM:-0500
TZOFFSETTO:-0400
TZNAME:EDT
END:DAYLIGHT
END:VTIMEZONE
END:VCALENDAR